BEGIN:VCALENDAR
VERSION:2.0
CALSCALE:GREGORIAN
PRODID:adamgibbons/ics
METHOD:PUBLISH
X-PUBLISHED-TTL:PT1H
BEGIN:VEVENT
UID:166@botep.org
SUMMARY:Rivolta pride
DTSTAMP:20260421T123608Z
DTSTART:20260613T130000Z
DTEND:20260613T210000Z
URL:https://botep.org/event/rivolta-pride
LOCATION:Bologna\, vari luoghi - Bologna\, vari luoghi
STATUS:CONFIRMED
CATEGORIES:corteo,LGTBQIA+,Pride,rivolta pride
END:VEVENT
END:VCALENDAR
